BEGIN:VCALENDAR
VERSION:2.0
PRODID:-//kfd Glandorf - ECPv6.3.5//NONSGML v1.0//EN
CALSCALE:GREGORIAN
METHOD:PUBLISH
X-WR-CALNAME:kfd Glandorf
X-ORIGINAL-URL:https://kfd-glandorf.de
X-WR-CALDESC:Veranstaltungen für kfd Glandorf
REFRESH-INTERVAL;VALUE=DURATION:PT1H
X-Robots-Tag:noindex
X-PUBLISHED-TTL:PT1H
BEGIN:VTIMEZONE
TZID:UTC
BEGIN:STANDARD
TZOFFSETFROM:+0000
TZOFFSETTO:+0000
TZNAME:UTC
DTSTART:20220101T000000
END:STANDARD
END:VTIMEZONE
BEGIN:VEVENT
DTSTART;TZID=UTC:20220420T143000
DTEND;TZID=UTC:20220420T180000
DTSTAMP:20260420T084353
CREATED:20220323T085940Z
LAST-MODIFIED:20220323T091708Z
UID:280-1650465000-1650477600@kfd-glandorf.de
SUMMARY:Auf den Spuren bedeutender Frauen
DESCRIPTION:
URL:https://kfd-glandorf.de/veranstaltung/auf-den-spuren-bedeutender-frauen/
CATEGORIES:Fahrten
END:VEVENT
END:VCALENDAR