BEGIN:VCALENDAR
VERSION:2.0
PRODID:-//kfd Glandorf - ECPv6.3.5//NONSGML v1.0//EN
CALSCALE:GREGORIAN
METHOD:PUBLISH
X-ORIGINAL-URL:https://kfd-glandorf.de
X-WR-CALDESC:Veranstaltungen für kfd Glandorf
REFRESH-INTERVAL;VALUE=DURATION:PT1H
X-Robots-Tag:noindex
X-PUBLISHED-TTL:PT1H
BEGIN:VTIMEZONE
TZID:UTC
BEGIN:STANDARD
TZOFFSETFROM:+0000
TZOFFSETTO:+0000
TZNAME:UTC
DTSTART:20220101T000000
END:STANDARD
END:VTIMEZONE
BEGIN:VEVENT
DTSTART;TZID=UTC:20220408T081500
DTEND;TZID=UTC:20220408T153000
DTSTAMP:20260420T162405
CREATED:20220323T083831Z
LAST-MODIFIED:20220323T091655Z
UID:272-1649405700-1649431800@kfd-glandorf.de
SUMMARY:Kreuztracht in Lage
DESCRIPTION:
URL:https://kfd-glandorf.de/veranstaltung/kreuztracht-in-lage/
CATEGORIES:Fahrten
END:VEVENT
END:VCALENDAR